BEGIN:VCALENDAR
VERSION:2.0
PRODID:-//hacksw/handcal//NONSGML v1.0//EN
BEGIN:VEVENT
SUMMARY:Match D3(5) AS STEPHANAISE 5 vs PING FRANQUEVILLAIS 7 a FRANQUEVILLE
UID:175f2f08-3da7-4a74-8932-6c82c01d2a77
DTSTART:20260501T133000Z
DTEND:20260501T220000Z
LOCATION:Localisation   
CATEGORIES:Sportif
STATUS:
URL;VALUE=URI:https://astt76.sportsregions.fr/evenements/2026/05/01/match-d35-as-stephanaise-5-vs-ping-franquevillais-7-a-franqueville-2422249
END:VEVENT
END:VCALENDAR
