BEGIN:VCALENDAR
VERSION:2.0
PRODID:-//hacksw/handcal//NONSGML v1.0//EN
BEGIN:VEVENT
SUMMARY:Match D3(3) AS STEPHANAISE 3 vs PING FRANQUEVILLAIS 6 a FRANQUEVILLE
UID:12359ebd-ddba-4430-ae42-6087d14ac40e
DTSTART:20260501T133000Z
DTEND:20260501T220000Z
LOCATION:Localisation   
CATEGORIES:Sportif
STATUS:
URL;VALUE=URI:https://astt76.sportsregions.fr/evenements/2026/05/01/match-d33-as-stephanaise-3-vs-ping-franquevillais-6-a-franqueville-2422256
END:VEVENT
END:VCALENDAR
